BEGIN:VCALENDAR
VERSION:2.0
PRODID:-//Peninsula Book Collaborative - ECPv6.15.16//NONSGML v1.0//EN
CALSCALE:GREGORIAN
METHOD:PUBLISH
X-ORIGINAL-URL:https://peninsulabooks.org
X-WR-CALDESC:Events for Peninsula Book Collaborative
REFRESH-INTERVAL;VALUE=DURATION:PT1H
X-Robots-Tag:noindex
X-PUBLISHED-TTL:PT1H
BEGIN:VTIMEZONE
TZID:America/Los_Angeles
BEGIN:DAYLIGHT
TZOFFSETFROM:-0800
TZOFFSETTO:-0700
TZNAME:PDT
DTSTART:20220313T100000
END:DAYLIGHT
BEGIN:STANDARD
TZOFFSETFROM:-0700
TZOFFSETTO:-0800
TZNAME:PST
DTSTART:20221106T090000
END:STANDARD
BEGIN:DAYLIGHT
TZOFFSETFROM:-0800
TZOFFSETTO:-0700
TZNAME:PDT
DTSTART:20230312T100000
END:DAYLIGHT
BEGIN:STANDARD
TZOFFSETFROM:-0700
TZOFFSETTO:-0800
TZNAME:PST
DTSTART:20231105T090000
END:STANDARD
BEGIN:DAYLIGHT
TZOFFSETFROM:-0800
TZOFFSETTO:-0700
TZNAME:PDT
DTSTART:20240310T100000
END:DAYLIGHT
BEGIN:STANDARD
TZOFFSETFROM:-0700
TZOFFSETTO:-0800
TZNAME:PST
DTSTART:20241103T090000
END:STANDARD
END:VTIMEZONE
BEGIN:VEVENT
DTSTART;TZID=America/Los_Angeles:20230909T110000
DTEND;TZID=America/Los_Angeles:20230909T150000
DTSTAMP:20260420T202826
CREATED:20230724T070059Z
LAST-MODIFIED:20230725T213942Z
UID:142-1694257200-1694271600@peninsulabooks.org
SUMMARY:DCPLA Art & Lit Fest
DESCRIPTION:Peninsula Book Collaborative is sponsoring and will host a table at the 2023 DCPLA Art & Lit Fest\nJoin us at the 2nd Annual DCPLA Art & Lit Fest on September 9\, 2023 from 11am to 3pm at Serramonte Center in Daly City. This event will showcase local artists and encourage the cultural rise of Daly City’s art community. The Art & Lit Fest will be a day of arts and crafts\, performances\, workshops\, live music\, and fun. \nVisit Event Website
URL:https://peninsulabooks.org/event/event-placeholder-2/
LOCATION:Serramonte Center\, 3 Serramonte Center\, Daly City\, CA\, 94015\, United States
ATTACH;FMTTYPE=image/jpeg:https://peninsulabooks.org/wp-content/uploads/flyer-2023-DCPLA-Art-and-Lit-Fest.jpg
END:VEVENT
END:VCALENDAR