BEGIN:VCALENDAR
VERSION:2.0
PRODID:-//Peninsula Book Collaborative - ECPv6.15.16//NONSGML v1.0//EN
CALSCALE:GREGORIAN
METHOD:PUBLISH
X-ORIGINAL-URL:https://peninsulabooks.org
X-WR-CALDESC:Events for Peninsula Book Collaborative
REFRESH-INTERVAL;VALUE=DURATION:PT1H
X-Robots-Tag:noindex
X-PUBLISHED-TTL:PT1H
BEGIN:VTIMEZONE
TZID:America/Los_Angeles
BEGIN:DAYLIGHT
TZOFFSETFROM:-0800
TZOFFSETTO:-0700
TZNAME:PDT
DTSTART:20220313T100000
END:DAYLIGHT
BEGIN:STANDARD
TZOFFSETFROM:-0700
TZOFFSETTO:-0800
TZNAME:PST
DTSTART:20221106T090000
END:STANDARD
BEGIN:DAYLIGHT
TZOFFSETFROM:-0800
TZOFFSETTO:-0700
TZNAME:PDT
DTSTART:20230312T100000
END:DAYLIGHT
BEGIN:STANDARD
TZOFFSETFROM:-0700
TZOFFSETTO:-0800
TZNAME:PST
DTSTART:20231105T090000
END:STANDARD
BEGIN:DAYLIGHT
TZOFFSETFROM:-0800
TZOFFSETTO:-0700
TZNAME:PDT
DTSTART:20240310T100000
END:DAYLIGHT
BEGIN:STANDARD
TZOFFSETFROM:-0700
TZOFFSETTO:-0800
TZNAME:PST
DTSTART:20241103T090000
END:STANDARD
END:VTIMEZONE
BEGIN:VEVENT
DTSTART;TZID=America/Los_Angeles:20231202T100000
DTEND;TZID=America/Los_Angeles:20231202T180000
DTSTAMP:20260420T161049
CREATED:20230827T022750Z
LAST-MODIFIED:20231121T044115Z
UID:551-1701511200-1701540000@peninsulabooks.org
SUMMARY:Official Grand Opening
DESCRIPTION:Join us for our grand opening festivities. There will be something happening every hour throughout the day. \nCelebrate as we build literacy\, community\, and collaboration. \n\n10 am Welcome\, Coffee & Breakfast Treats\n11 am Family Storytime \n12 noon Face Painting\n1 pm Poetry Reading – Daly City Youth Poet Laureate Olivia V.\n2 pm Cookies by Sugar Coated SF\n3 pm Holiday Card Making for all ages\n4 pm Bundtinis – Courtesy of Nothing Bundt Cake\n5 pm Final Drawing\n\nDrawings every hour for book bundles\, signed books\, and more. Winners need not be present. \nBring your teacher/library ID (business cards\, badge\, etc.) and get 10% off your purchase today and all year long.
URL:https://peninsulabooks.org/event/opening-day/
LOCATION:Peninsula Books\, 441 Westlake Center\, Daly City\, 94015\, United States
ATTACH;FMTTYPE=image/png:https://peninsulabooks.org/wp-content/uploads/Grand-opening-1.png
ORGANIZER;CN="Peninsula Book Collaborative":MAILTO:contact@peninsulabooks.org
END:VEVENT
END:VCALENDAR