BEGIN:VCALENDAR
VERSION:2.0
PRODID:-//Peninsula Book Collaborative - ECPv6.15.16//NONSGML v1.0//EN
CALSCALE:GREGORIAN
METHOD:PUBLISH
X-WR-CALNAME:Peninsula Book Collaborative
X-ORIGINAL-URL:https://peninsulabooks.org
X-WR-CALDESC:Events for Peninsula Book Collaborative
REFRESH-INTERVAL;VALUE=DURATION:PT1H
X-Robots-Tag:noindex
X-PUBLISHED-TTL:PT1H
BEGIN:VTIMEZONE
TZID:America/Los_Angeles
BEGIN:DAYLIGHT
TZOFFSETFROM:-0800
TZOFFSETTO:-0700
TZNAME:PDT
DTSTART:20230312T100000
END:DAYLIGHT
BEGIN:STANDARD
TZOFFSETFROM:-0700
TZOFFSETTO:-0800
TZNAME:PST
DTSTART:20231105T090000
END:STANDARD
BEGIN:DAYLIGHT
TZOFFSETFROM:-0800
TZOFFSETTO:-0700
TZNAME:PDT
DTSTART:20240310T100000
END:DAYLIGHT
BEGIN:STANDARD
TZOFFSETFROM:-0700
TZOFFSETTO:-0800
TZNAME:PST
DTSTART:20241103T090000
END:STANDARD
BEGIN:DAYLIGHT
TZOFFSETFROM:-0800
TZOFFSETTO:-0700
TZNAME:PDT
DTSTART:20250309T100000
END:DAYLIGHT
BEGIN:STANDARD
TZOFFSETFROM:-0700
TZOFFSETTO:-0800
TZNAME:PST
DTSTART:20251102T090000
END:STANDARD
END:VTIMEZONE
BEGIN:VEVENT
DTSTART;TZID=America/Los_Angeles:20240126T180000
DTEND;TZID=America/Los_Angeles:20240126T190000
DTSTAMP:20260420T144840
CREATED:20231218T184322Z
LAST-MODIFIED:20231218T184322Z
UID:621-1706292000-1706295600@peninsulabooks.org
SUMMARY:Author Reading & Signing: Stacey Bowen
DESCRIPTION:Join us for our first author reading and signing. Stacey Bowen will read from her book “Things I wish I Knew”. She will also personalize copies of her books. They are available for purchase at Peninsula Books. See you there.
URL:https://peninsulabooks.org/event/author-reading-signing-stacey-bowen/
LOCATION:Peninsula Books\, 441 Westlake Center\, Daly City\, 94015\, United States
ATTACH;FMTTYPE=image/png:https://peninsulabooks.org/wp-content/uploads/stacey-bowen-image.png
ORGANIZER;CN="Peninsula Book Collaborative":MAILTO:contact@peninsulabooks.org
END:VEVENT
END:VCALENDAR