BEGIN:VCALENDAR
VERSION:2.0
PRODID:-//Peninsula Book Collaborative - ECPv6.15.16//NONSGML v1.0//EN
CALSCALE:GREGORIAN
METHOD:PUBLISH
X-WR-CALNAME:Peninsula Book Collaborative
X-ORIGINAL-URL:https://peninsulabooks.org
X-WR-CALDESC:Events for Peninsula Book Collaborative
REFRESH-INTERVAL;VALUE=DURATION:PT1H
X-Robots-Tag:noindex
X-PUBLISHED-TTL:PT1H
BEGIN:VTIMEZONE
TZID:America/Los_Angeles
BEGIN:DAYLIGHT
TZOFFSETFROM:-0800
TZOFFSETTO:-0700
TZNAME:PDT
DTSTART:20230312T100000
END:DAYLIGHT
BEGIN:STANDARD
TZOFFSETFROM:-0700
TZOFFSETTO:-0800
TZNAME:PST
DTSTART:20231105T090000
END:STANDARD
BEGIN:DAYLIGHT
TZOFFSETFROM:-0800
TZOFFSETTO:-0700
TZNAME:PDT
DTSTART:20240310T100000
END:DAYLIGHT
BEGIN:STANDARD
TZOFFSETFROM:-0700
TZOFFSETTO:-0800
TZNAME:PST
DTSTART:20241103T090000
END:STANDARD
BEGIN:DAYLIGHT
TZOFFSETFROM:-0800
TZOFFSETTO:-0700
TZNAME:PDT
DTSTART:20250309T100000
END:DAYLIGHT
BEGIN:STANDARD
TZOFFSETFROM:-0700
TZOFFSETTO:-0800
TZNAME:PST
DTSTART:20251102T090000
END:STANDARD
END:VTIMEZONE
BEGIN:VEVENT
DTSTART;TZID=America/Los_Angeles:20240210T180000
DTEND;TZID=America/Los_Angeles:20240210T200000
DTSTAMP:20260420T132147
CREATED:20240117T175117Z
LAST-MODIFIED:20240117T175117Z
UID:656-1707588000-1707595200@peninsulabooks.org
SUMMARY:Youth Film Screening
DESCRIPTION:Join Daly City Youth Poet Laureate as she screens the film “Words Bubble Up Like Soda Pop” at Peninsula Book Collaborative. This is part of the Rise Above the Sea: Haiku! project. There will be light snacks. Hope to see you there.
URL:https://peninsulabooks.org/event/youth-film-screening/
LOCATION:Peninsula Books\, 441 Westlake Center\, Daly City\, 94015\, United States
ATTACH;FMTTYPE=image/png:https://peninsulabooks.org/wp-content/uploads/Words-Bubble-Up-Movie-Night-Event-Flyer-8.5x11.png
ORGANIZER;CN="Peninsula Book Collaborative":MAILTO:contact@peninsulabooks.org
END:VEVENT
BEGIN:VEVENT
DTSTART;TZID=America/Los_Angeles:20240218T140000
DTEND;TZID=America/Los_Angeles:20240218T150000
DTSTAMP:20260420T132147
CREATED:20240204T035304Z
LAST-MODIFIED:20240204T035304Z
UID:668-1708264800-1708268400@peninsulabooks.org
SUMMARY:Getting to Sorry with Susan McCarthy (Author Discussion)
DESCRIPTION:Author Talk: Getting to Sorry \nWe all recognize terrible apologies. You’ve probably gotten a few. Excuse-laden\, blame-shifting\, weaselly offerings can fracture friendships and family bonds\, harm businesses\, and damage workplace relationships. \nJoin Susan share about the book and discuss apologies. Learn how to elicit better apologies\, how to offer great ones\, and how to teach kids how to apologize. \n  \nEvent is free
URL:https://peninsulabooks.org/event/getting-to-sorry-with-susan-mccarthy-author-discussion/
LOCATION:Peninsula Books\, 441 Westlake Center\, Daly City\, 94015\, United States
ATTACH;FMTTYPE=image/png:https://peninsulabooks.org/wp-content/uploads/Susan-McCarthy-event.png
ORGANIZER;CN="Peninsula Book Collaborative":MAILTO:contact@peninsulabooks.org
END:VEVENT
END:VCALENDAR