BEGIN:VCALENDAR
VERSION:2.0
PRODID:-//Peninsula Book Collaborative - ECPv6.15.16//NONSGML v1.0//EN
CALSCALE:GREGORIAN
METHOD:PUBLISH
X-WR-CALNAME:Peninsula Book Collaborative
X-ORIGINAL-URL:https://peninsulabooks.org
X-WR-CALDESC:Events for Peninsula Book Collaborative
REFRESH-INTERVAL;VALUE=DURATION:PT1H
X-Robots-Tag:noindex
X-PUBLISHED-TTL:PT1H
BEGIN:VTIMEZONE
TZID:America/Los_Angeles
BEGIN:DAYLIGHT
TZOFFSETFROM:-0800
TZOFFSETTO:-0700
TZNAME:PDT
DTSTART:20230312T100000
END:DAYLIGHT
BEGIN:STANDARD
TZOFFSETFROM:-0700
TZOFFSETTO:-0800
TZNAME:PST
DTSTART:20231105T090000
END:STANDARD
BEGIN:DAYLIGHT
TZOFFSETFROM:-0800
TZOFFSETTO:-0700
TZNAME:PDT
DTSTART:20240310T100000
END:DAYLIGHT
BEGIN:STANDARD
TZOFFSETFROM:-0700
TZOFFSETTO:-0800
TZNAME:PST
DTSTART:20241103T090000
END:STANDARD
BEGIN:DAYLIGHT
TZOFFSETFROM:-0800
TZOFFSETTO:-0700
TZNAME:PDT
DTSTART:20250309T100000
END:DAYLIGHT
BEGIN:STANDARD
TZOFFSETFROM:-0700
TZOFFSETTO:-0800
TZNAME:PST
DTSTART:20251102T090000
END:STANDARD
END:VTIMEZONE
BEGIN:VEVENT
DTSTART;TZID=America/Los_Angeles:20240406T180000
DTEND;TZID=America/Los_Angeles:20240406T190000
DTSTAMP:20260420T101623
CREATED:20240321T024848Z
LAST-MODIFIED:20240321T024848Z
UID:700-1712426400-1712430000@peninsulabooks.org
SUMMARY:Poetry Reading with Amanda Saeed
DESCRIPTION:Join us in April for Poetry month with a reading and discussion by local poet and artist\, Amanda Saeed. She is a lyrical poet from San Francisco\, with her poetry centering on hurt\, processing\, and healing in today’s tech-addicted\, vain age.
URL:https://peninsulabooks.org/event/poetry-reading-with-amanda-saeed/
LOCATION:Peninsula Books\, 441 Westlake Center\, Daly City\, 94015\, United States
CATEGORIES:Poetry Reading
ATTACH;FMTTYPE=image/png:https://peninsulabooks.org/wp-content/uploads/Poetry-Reading.png
ORGANIZER;CN="Peninsula Book Collaborative":MAILTO:contact@peninsulabooks.org
END:VEVENT
BEGIN:VEVENT
DTSTART;TZID=America/Los_Angeles:20240420T180000
DTEND;TZID=America/Los_Angeles:20240420T190000
DTSTAMP:20260420T101623
CREATED:20240420T204347Z
LAST-MODIFIED:20240420T204400Z
UID:738-1713636000-1713639600@peninsulabooks.org
SUMMARY:Books & Bongs
DESCRIPTION:Join us for a author panel discussion on cannabis gardening and cooking with authors Jamie Evans\, Penny Barthel\, Monica Lo\, and Haejin Chun.  This is part of a larger event that includes painting bongs at Color Me Mine. We will have their books available to purchase onsite and you can pre-order in advance through this link.  \nHope to see you there!
URL:https://peninsulabooks.org/event/books-bongs/
LOCATION:Peninsula Books\, 441 Westlake Center\, Daly City\, 94015\, United States
CATEGORIES:Community event
ATTACH;FMTTYPE=image/png:https://peninsulabooks.org/wp-content/uploads/Books-and-bongs.png
END:VEVENT
BEGIN:VEVENT
DTSTART;TZID=America/Los_Angeles:20240426T173000
DTEND;TZID=America/Los_Angeles:20240426T200000
DTSTAMP:20260420T101623
CREATED:20240324T164956Z
LAST-MODIFIED:20240324T165027Z
UID:712-1714152600-1714161600@peninsulabooks.org
SUMMARY:One Year Birthday Bash
DESCRIPTION:Join us at Gilman Brewery for our one year anniversary as an organization. We will have book themed trivia\, food\, drinks\, and more. Teachers and library staff – we have set aside some free tickets for you! Choose the teacher/library ticket option when registering. \nJoin us there or become a sponsor. \nIf you cannot make\, please consider to still make a donation to help us grow.
URL:https://peninsulabooks.org/event/one-year-birthday-bash/
LOCATION:Gilman Brewery\, 2001 Junipero Serra Blvd Suite 180\, Daly City\, 94014\, United States
CATEGORIES:Community event
ATTACH;FMTTYPE=image/png:https://peninsulabooks.org/wp-content/uploads/PBC-Anniversary-Flyer.png
ORGANIZER;CN="Peninsula Book Collaborative":MAILTO:contact@peninsulabooks.org
END:VEVENT
BEGIN:VEVENT
DTSTART;TZID=America/Los_Angeles:20240427T100000
DTEND;TZID=America/Los_Angeles:20240427T180000
DTSTAMP:20260420T101623
CREATED:20240324T165240Z
LAST-MODIFIED:20240413T184621Z
UID:717-1714212000-1714240800@peninsulabooks.org
SUMMARY:Independent Bookstore Day
DESCRIPTION:Join us for our first Independent Bookstore Day. We will have exclusive items\, and activities throughout the day. \nSpecial storytime at 10:30 am! \nAll Day \n\nSpecial Indie Bookstore Day Merch & exclusives\nBookstore Bingo -complete for a prize\n20% off selected Hardcover books\nFree Peninsula Books tote bag for purchase over $50\nTreats throughout the day\nKids coloring corner\nPeninsula Books Cookies (while supplies last)\nPrizes for every purchase.
URL:https://peninsulabooks.org/event/independent-bookstore-day/
LOCATION:Peninsula Books\, 441 Westlake Center\, Daly City\, 94015\, United States
CATEGORIES:Community event
ATTACH;FMTTYPE=image/png:https://peninsulabooks.org/wp-content/uploads/Independent-Bookstore-day-IG.png
ORGANIZER;CN="Peninsula Book Collaborative":MAILTO:contact@peninsulabooks.org
END:VEVENT
END:VCALENDAR