BEGIN:VCALENDAR
VERSION:2.0
PRODID:-//Peninsula Book Collaborative - ECPv6.15.16//NONSGML v1.0//EN
CALSCALE:GREGORIAN
METHOD:PUBLISH
X-WR-CALNAME:Peninsula Book Collaborative
X-ORIGINAL-URL:https://peninsulabooks.org
X-WR-CALDESC:Events for Peninsula Book Collaborative
REFRESH-INTERVAL;VALUE=DURATION:PT1H
X-Robots-Tag:noindex
X-PUBLISHED-TTL:PT1H
BEGIN:VTIMEZONE
TZID:America/Los_Angeles
BEGIN:DAYLIGHT
TZOFFSETFROM:-0800
TZOFFSETTO:-0700
TZNAME:PDT
DTSTART:20230312T100000
END:DAYLIGHT
BEGIN:STANDARD
TZOFFSETFROM:-0700
TZOFFSETTO:-0800
TZNAME:PST
DTSTART:20231105T090000
END:STANDARD
BEGIN:DAYLIGHT
TZOFFSETFROM:-0800
TZOFFSETTO:-0700
TZNAME:PDT
DTSTART:20240310T100000
END:DAYLIGHT
BEGIN:STANDARD
TZOFFSETFROM:-0700
TZOFFSETTO:-0800
TZNAME:PST
DTSTART:20241103T090000
END:STANDARD
BEGIN:DAYLIGHT
TZOFFSETFROM:-0800
TZOFFSETTO:-0700
TZNAME:PDT
DTSTART:20250309T100000
END:DAYLIGHT
BEGIN:STANDARD
TZOFFSETFROM:-0700
TZOFFSETTO:-0800
TZNAME:PST
DTSTART:20251102T090000
END:STANDARD
END:VTIMEZONE
BEGIN:VEVENT
DTSTART;TZID=America/Los_Angeles:20240504T100000
DTEND;TZID=America/Los_Angeles:20240504T120000
DTSTAMP:20260420T084530
CREATED:20240413T190607Z
LAST-MODIFIED:20240413T190723Z
UID:728-1714816800-1714824000@peninsulabooks.org
SUMMARY:Children's Book Swap
DESCRIPTION:We are partnering up with Daly City Partnership and Skyline.Bookbox for a Children’s Books Swap. Bring children’s books in good condition to share with others. All languages welcome and bringing books is not a requirement to attend. \n 
URL:https://peninsulabooks.org/event/childrens-book-swap/
LOCATION:Daly City Partnership- Our Second Home\, 725 Price St\, Daly City\, CA\, 94014
CATEGORIES:Community event
ATTACH;FMTTYPE=image/png:https://peninsulabooks.org/wp-content/uploads/Childrens-Book-Swap_ENG.png
ORGANIZER;CN="Peninsula Book Collaborative":MAILTO:contact@peninsulabooks.org
END:VEVENT
BEGIN:VEVENT
DTSTART;TZID=America/Los_Angeles:20240519T180000
DTEND;TZID=America/Los_Angeles:20240519T190000
DTSTAMP:20260420T084530
CREATED:20240502T214030Z
LAST-MODIFIED:20240502T214030Z
UID:744-1716141600-1716145200@peninsulabooks.org
SUMMARY:Books & Bongs
DESCRIPTION:Join these celebrated authors for a painting party from 4-6pm at Color Me Mine then walk over to us (Peninsula Books next door)  for the authors panel from 6-7pm. We’d love to see you at both events\, but if you can only make one\, no worries! There is plenty of parking at the WestLake Shopping Center\, just park near the Trader Joe’s. \nAuthors: \nPenny Barthel \nThe Cannabis Gardener \nJamie Evans \nHigh Times: Cannabis Cocktails \nThe High Times Cookbook: Let’s Get Baked \nCannabis Drinks \nThe Ultimate Guide to CBD \nHaejin Chun \nThe High Times Cookbook: Let’s Get Baked \nMonica Lo \nThe Weed Gummies Cookbook
URL:https://peninsulabooks.org/event/books-bongs-2/
LOCATION:Peninsula Books\, 441 Westlake Center\, Daly City\, 94015\, United States
CATEGORIES:Community event
ATTACH;FMTTYPE=image/png:https://peninsulabooks.org/wp-content/uploads/Books-and-bongs.png
END:VEVENT
END:VCALENDAR