BEGIN:VCALENDAR
VERSION:2.0
PRODID:-//Peninsula Book Collaborative - ECPv6.15.16//NONSGML v1.0//EN
CALSCALE:GREGORIAN
METHOD:PUBLISH
X-ORIGINAL-URL:https://peninsulabooks.org
X-WR-CALDESC:Events for Peninsula Book Collaborative
REFRESH-INTERVAL;VALUE=DURATION:PT1H
X-Robots-Tag:noindex
X-PUBLISHED-TTL:PT1H
BEGIN:VTIMEZONE
TZID:America/Los_Angeles
BEGIN:DAYLIGHT
TZOFFSETFROM:-0800
TZOFFSETTO:-0700
TZNAME:PDT
DTSTART:20230312T100000
END:DAYLIGHT
BEGIN:STANDARD
TZOFFSETFROM:-0700
TZOFFSETTO:-0800
TZNAME:PST
DTSTART:20231105T090000
END:STANDARD
BEGIN:DAYLIGHT
TZOFFSETFROM:-0800
TZOFFSETTO:-0700
TZNAME:PDT
DTSTART:20240310T100000
END:DAYLIGHT
BEGIN:STANDARD
TZOFFSETFROM:-0700
TZOFFSETTO:-0800
TZNAME:PST
DTSTART:20241103T090000
END:STANDARD
BEGIN:DAYLIGHT
TZOFFSETFROM:-0800
TZOFFSETTO:-0700
TZNAME:PDT
DTSTART:20250309T100000
END:DAYLIGHT
BEGIN:STANDARD
TZOFFSETFROM:-0700
TZOFFSETTO:-0800
TZNAME:PST
DTSTART:20251102T090000
END:STANDARD
END:VTIMEZONE
BEGIN:VEVENT
DTSTART;TZID=America/Los_Angeles:20240713T170000
DTEND;TZID=America/Los_Angeles:20240713T180000
DTSTAMP:20260420T061731
CREATED:20240629T042803Z
LAST-MODIFIED:20240629T042841Z
UID:776-1720890000-1720893600@peninsulabooks.org
SUMMARY:Broken Pencils: Meet the Author J.R. Rice
DESCRIPTION:J.R Rice\, a Black man born in Oakland\, with a passion for writing\, teaching\, and spoken word artistry has always been captivated by the power of words and their ability to inspire\, motivate and transform lives. J.R traveled abroad to Greece\, where he had the honor of being mentored by the renowned author\, George Crane. It was there that he honed his skills and developed his unique voice\, which he would later use to inspire and empower countless others. \nHis novella\, Broken Pencils earned the 2024 Literary Titan Gold Book Award\, the Literary Global Gold Award\, and many other awards. He is the host and curator of SOCIAL SATURDAYS artist showcase in Oakland. He currently resides and teaches in the Bay Area. To learn more\, visit www.jrrice.com
URL:https://peninsulabooks.org/event/broken-pencils-meet-the-author-j-r-rice/
LOCATION:Peninsula Books\, 441 Westlake Center\, Daly City\, 94015\, United States
CATEGORIES:Community event
ATTACH;FMTTYPE=image/png:https://peninsulabooks.org/wp-content/uploads/JR-Rice-event.png
ORGANIZER;CN="Peninsula Book Collaborative":MAILTO:contact@peninsulabooks.org
END:VEVENT
BEGIN:VEVENT
DTSTART;TZID=America/Los_Angeles:20240727T110000
DTEND;TZID=America/Los_Angeles:20240727T120000
DTSTAMP:20260420T061731
CREATED:20240629T043115Z
LAST-MODIFIED:20240629T043233Z
UID:780-1722078000-1722081600@peninsulabooks.org
SUMMARY:Storytime with the Author: Shauna Lobre
DESCRIPTION:Local author\, Shauna Lobre has spent most of her adult life working with children. From a preschool teacher to a pediatric ICU nurse for 34 years\, she saw how stories made children smile. Along with raising her own three boys\, she knew Fred & Ted would be her first book. They drew her into the story as she wrote it\, and they became friends too. \n**Goodie bags and drawing for your own copy of Fred and Ted* \nBefore you head to Chalkfest\, come and enjoy author Shauna read her new book.
URL:https://peninsulabooks.org/event/storytime-with-the-author-shauna-lobre/
LOCATION:Peninsula Books\, 441 Westlake Center\, Daly City\, 94015\, United States
CATEGORIES:Community event
ATTACH;FMTTYPE=image/png:https://peninsulabooks.org/wp-content/uploads/Shauna-Lobre-event-.png
ORGANIZER;CN="Peninsula Book Collaborative":MAILTO:contact@peninsulabooks.org
END:VEVENT
END:VCALENDAR