BEGIN:VCALENDAR
VERSION:2.0
PRODID:-//Peninsula Book Collaborative - ECPv6.15.16//NONSGML v1.0//EN
CALSCALE:GREGORIAN
METHOD:PUBLISH
X-ORIGINAL-URL:https://peninsulabooks.org
X-WR-CALDESC:Events for Peninsula Book Collaborative
REFRESH-INTERVAL;VALUE=DURATION:PT1H
X-Robots-Tag:noindex
X-PUBLISHED-TTL:PT1H
BEGIN:VTIMEZONE
TZID:America/Los_Angeles
BEGIN:DAYLIGHT
TZOFFSETFROM:-0800
TZOFFSETTO:-0700
TZNAME:PDT
DTSTART:20230312T100000
END:DAYLIGHT
BEGIN:STANDARD
TZOFFSETFROM:-0700
TZOFFSETTO:-0800
TZNAME:PST
DTSTART:20231105T090000
END:STANDARD
BEGIN:DAYLIGHT
TZOFFSETFROM:-0800
TZOFFSETTO:-0700
TZNAME:PDT
DTSTART:20240310T100000
END:DAYLIGHT
BEGIN:STANDARD
TZOFFSETFROM:-0700
TZOFFSETTO:-0800
TZNAME:PST
DTSTART:20241103T090000
END:STANDARD
BEGIN:DAYLIGHT
TZOFFSETFROM:-0800
TZOFFSETTO:-0700
TZNAME:PDT
DTSTART:20250309T100000
END:DAYLIGHT
BEGIN:STANDARD
TZOFFSETFROM:-0700
TZOFFSETTO:-0800
TZNAME:PST
DTSTART:20251102T090000
END:STANDARD
END:VTIMEZONE
BEGIN:VEVENT
DTSTART;TZID=America/Los_Angeles:20240804T100000
DTEND;TZID=America/Los_Angeles:20240804T140000
DTSTAMP:20260420T044907
CREATED:20240114T211723Z
LAST-MODIFIED:20240729T173917Z
UID:643-1722765600-1722780000@peninsulabooks.org
SUMMARY:Book Giveaway for Teachers
DESCRIPTION:Join us for our 2nd Book Giveaway for teachers/educators. We appreciate all you do as educators and want to thank you. \nCome out to Peninsula Books and select up to 20 free books for your classroom! We will have picture books and chapter books for you to choose from. We will also have new and used free teacher resources Bring your ID or business card so we can check you in when you arrive. \nMore Fun\nAny purchases you choose to make from the store will be 25% off. \nJoin us and spread the word. \n  \n— \nAs a reminder\, teachers/educators and library staff receive 10% off everyday at Peninsula Books.
URL:https://peninsulabooks.org/event/book-giveaway-for-teachers/
LOCATION:Peninsula Books\, 441 Westlake Center\, Daly City\, 94015\, United States
CATEGORIES:Community event
ATTACH;FMTTYPE=image/png:https://peninsulabooks.org/wp-content/uploads/Free-Teacher-Giveaway-fall-2024.png
ORGANIZER;CN="Peninsula Book Collaborative":MAILTO:contact@peninsulabooks.org
END:VEVENT
BEGIN:VEVENT
DTSTART;TZID=America/Los_Angeles:20240808T173000
DTEND;TZID=America/Los_Angeles:20240808T183000
DTSTAMP:20260420T044907
CREATED:20240321T030453Z
LAST-MODIFIED:20240629T042459Z
UID:706-1723138200-1723141800@peninsulabooks.org
SUMMARY:Admissions & Financial Aid Workshops
DESCRIPTION:Getting into your dream college can feel daunting\, but it’s less about secrets and more about understanding what colleges are looking for and how to present yourself in the best possible light. Join Erica Hernandez\, a leading admissions consultant in the Bay Area\, for a 4 part series to help you stand out. She has devoted 15+ years to education and nonprofit leadership\, focusing on admissions and financial aid to get students into their dream colleges from Ivy League colleges\, UCs\, and CSUs and receive the scholarships and grants necessary to attend. \nThis series is geared for juniors and seniors in high school. \n  \nRegister here. 
URL:https://peninsulabooks.org/event/admissions-financial-aid-workshops/
LOCATION:Peninsula Books\, 441 Westlake Center\, Daly City\, 94015\, United States
CATEGORIES:Community event
ATTACH;FMTTYPE=image/png:https://peninsulabooks.org/wp-content/uploads/HS-fin.-aid-workshop.png
ORGANIZER;CN="Peninsula Book Collaborative":MAILTO:contact@peninsulabooks.org
END:VEVENT
BEGIN:VEVENT
DTSTART;VALUE=DATE:20240822
DTEND;VALUE=DATE:20240826
DTSTAMP:20260420T044907
CREATED:20240729T003828Z
LAST-MODIFIED:20240729T003828Z
UID:797-1724284800-1724630399@peninsulabooks.org
SUMMARY:Weekend Book Sale
DESCRIPTION:Come out and find great deals and your next best read.
URL:https://peninsulabooks.org/event/weekend-book-sale/
LOCATION:Peninsula Books\, 441 Westlake Center\, Daly City\, 94015\, United States
CATEGORIES:Community event
ATTACH;FMTTYPE=image/png:https://peninsulabooks.org/wp-content/uploads/Weekend-Sales-Flyer.png
ORGANIZER;CN="Peninsula Book Collaborative":MAILTO:contact@peninsulabooks.org
END:VEVENT
END:VCALENDAR